BEGIN:VCALENDAR
VERSION:2.0
PRODID:-//Athena//Youth Programs//EN
CALSCALE:GREGORIAN
METHOD:PUBLISH
X-WR-CALNAME:Youth Volleyball Camp
X-WR-TIMEZONE:America/Denver
BEGIN:VEVENT
UID:program-reczUiYMJXd3JgBmX-season@athena.com
DTSTAMP:20260423T223204Z
DTSTART;VALUE=DATE:20260622
DTEND;VALUE=DATE:20260623
SUMMARY:Youth Volleyball Camp
DESCRIPTION:Offered by: Lehi Legacy Center\nAges: 8–17\nRegister at: https:
 //www.lehi-ut.gov/recreation-community/legacy-center/sports/youth-sports/\
 nView on Athena: https://athena.com/programs/reczUiYMJXd3JgBmX
LOCATION:Lehi\, UT
URL:https://athena.com/programs/reczUiYMJXd3JgBmX
END:VEVENT
BEGIN:VEVENT
UID:program-reczUiYMJXd3JgBmX-deadline@athena.com
DTSTAMP:20260423T223204Z
DTSTART;VALUE=DATE:20260617
DTEND;VALUE=DATE:20260618
SUMMARY:Register by today: Youth Volleyball Camp
DESCRIPTION:Registration deadline for Youth Volleyball Camp.\n\nOffered by:
  Lehi Legacy Center\nAges: 8–17\nRegister at: https://www.lehi-ut.gov/recr
 eation-community/legacy-center/sports/youth-sports/\nView on Athena: https
 ://athena.com/programs/reczUiYMJXd3JgBmX
LOCATION:Lehi\, UT
URL:https://athena.com/programs/reczUiYMJXd3JgBmX
END:VEVENT
END:VCALENDAR