BEGIN:VCALENDAR
VERSION:2.0
PRODID:-//Athena//Youth Programs//EN
CALSCALE:GREGORIAN
METHOD:PUBLISH
X-WR-CALNAME:Saratoga Springs Summer Day Camp (Ages 5-12)
X-WR-TIMEZONE:America/Denver
BEGIN:VEVENT
UID:program-recyzpO7eNcBg0PmM-season@athena.com
DTSTAMP:20260423T223128Z
DTSTART;VALUE=DATE:20260608
DTEND;VALUE=DATE:20260815
SUMMARY:Saratoga Springs Summer Day Camp (Ages 5-12)
DESCRIPTION:Offered by: Saratoga Springs Recreation\nAges: 5–12\nCost: $445
 \nRegister at: https://www.saratoga-springs.com/summer-day-camp\nView on A
 thena: https://athena.com/programs/recyzpO7eNcBg0PmM
LOCATION:Saratoga Springs\, UT
URL:https://athena.com/programs/recyzpO7eNcBg0PmM
END:VEVENT
END:VCALENDAR