BEGIN:VCALENDAR
VERSION:2.0
PRODID:-//Athena//Youth Programs//EN
CALSCALE:GREGORIAN
METHOD:PUBLISH
X-WR-CALNAME:Nike Volleyball Camp at UVU (Ages 11-18)
X-WR-TIMEZONE:America/Denver
BEGIN:VEVENT
UID:program-recycaeGRSORXDcFp-season@athena.com
DTSTAMP:20260423T222452Z
DTSTART;VALUE=DATE:20260713
DTEND;VALUE=DATE:20260714
SUMMARY:Nike Volleyball Camp at UVU (Ages 11-18)
DESCRIPTION:Offered by: US Sports Camps\nAges: 11–18\nRegister at: https://
 www.ussportscamps.com/volleyball/nike/nike-volleyball-camp-utah-valley-uni
 versity\nView on Athena: https://athena.com/programs/recycaeGRSORXDcFp
LOCATION:Orem\, UT
URL:https://athena.com/programs/recycaeGRSORXDcFp
END:VEVENT
END:VCALENDAR