BEGIN:VCALENDAR
VERSION:2.0
PRODID:-//Athena//Youth Programs//EN
CALSCALE:GREGORIAN
METHOD:PUBLISH
X-WR-CALNAME:Utah Rec Sports - Summer Tee Ball (Ages 3-4)
X-WR-TIMEZONE:America/Denver
BEGIN:VEVENT
UID:program-recySL4sWbdPnrqDi-season@athena.com
DTSTAMP:20260423T222430Z
DTSTART;VALUE=DATE:20260608
DTEND;VALUE=DATE:20260630
SUMMARY:Utah Rec Sports - Summer Tee Ball (Ages 3-4)
DESCRIPTION:Offered by: Utah Rec Sports\nAges: 3–4\nCost: $35\nRegister at:
  https://utahrecsports.com/register/summer-season-sports/\nView on Athena:
  https://athena.com/programs/recySL4sWbdPnrqDi
LOCATION:Lehi\, UT
URL:https://athena.com/programs/recySL4sWbdPnrqDi
END:VEVENT
END:VCALENDAR