BEGIN:VCALENDAR
VERSION:2.0
PRODID:-//Athena//Youth Programs//EN
CALSCALE:GREGORIAN
METHOD:PUBLISH
X-WR-CALNAME:Utah Elite Soccer Camp - Lehi Session 2
X-WR-TIMEZONE:America/Denver
BEGIN:VEVENT
UID:program-recxyRQByu14lecrP-season@athena.com
DTSTAMP:20260423T223128Z
DTSTART;VALUE=DATE:20260707
DTEND;VALUE=DATE:20260712
SUMMARY:Utah Elite Soccer Camp - Lehi Session 2
DESCRIPTION:Offered by: Utah Elite Soccer\nAges: 4–12\nRegister at: https:/
 /www.utahelitesoccer.org/\nView on Athena: https://athena.com/programs/rec
 xyRQByu14lecrP
LOCATION:Lehi\, UT
URL:https://athena.com/programs/recxyRQByu14lecrP
END:VEVENT
END:VCALENDAR