BEGIN:VCALENDAR
VERSION:2.0
PRODID:-//Athena//Youth Programs//EN
CALSCALE:GREGORIAN
METHOD:PUBLISH
X-WR-CALNAME:BYU Golf Camp 2
X-WR-TIMEZONE:America/Denver
BEGIN:VEVENT
UID:program-recx1qzsgobBuiYym-season@athena.com
DTSTAMP:20260423T222958Z
DTSTART;VALUE=DATE:20260615
DTEND;VALUE=DATE:20260620
SUMMARY:BYU Golf Camp 2
DESCRIPTION:Offered by: BYU Sports Camps\nCost: $1060\nRegister at: https:/
 /campscui.active.com/orgs/BrighamYoungUniversity0?newcui=true#/selectSessi
 ons/3741635\nView on Athena: https://athena.com/programs/recx1qzsgobBuiYym
LOCATION:American Fork\, UT
URL:https://athena.com/programs/recx1qzsgobBuiYym
END:VEVENT
END:VCALENDAR