BEGIN:VCALENDAR
VERSION:2.0
PRODID:-//Athena//Youth Programs//EN
CALSCALE:GREGORIAN
METHOD:PUBLISH
X-WR-CALNAME:SCERA - Musical Theatre Workshop: Guys and Dolls Jr. (Ages 10-
 18)
X-WR-TIMEZONE:America/Denver
BEGIN:VEVENT
UID:program-recwqDfg9moWebzaB-season@athena.com
DTSTAMP:20260423T222322Z
DTSTART;VALUE=DATE:20260602
DTEND;VALUE=DATE:20260806
SUMMARY:SCERA - Musical Theatre Workshop: Guys and Dolls Jr. (Ages 10-18)
DESCRIPTION:Offered by: SCERA Center for the Arts\nAges: 10–18\nRegister at
 : https://scera.org/event-category/summer-camps/\nView on Athena: https://
 athena.com/programs/recwqDfg9moWebzaB
LOCATION:Orem\, UT
URL:https://athena.com/programs/recwqDfg9moWebzaB
END:VEVENT
END:VCALENDAR