BEGIN:VCALENDAR
VERSION:2.0
PRODID:-//Athena//Youth Programs//EN
CALSCALE:GREGORIAN
METHOD:PUBLISH
X-WR-CALNAME:SCERA - Musical Theatre Workshop: Annie Jr. (Ages 7-18)
X-WR-TIMEZONE:America/Denver
BEGIN:VEVENT
UID:program-recvjrIKTXlH2RZ7h-season@athena.com
DTSTAMP:20260423T223205Z
DTSTART;VALUE=DATE:20260601
DTEND;VALUE=DATE:20260806
SUMMARY:SCERA - Musical Theatre Workshop: Annie Jr. (Ages 7-18)
DESCRIPTION:Offered by: SCERA Center for the Arts\nAges: 7–18\nRegister at:
  https://scera.org/event-category/summer-camps/\nView on Athena: https://a
 thena.com/programs/recvjrIKTXlH2RZ7h
LOCATION:Orem\, UT
URL:https://athena.com/programs/recvjrIKTXlH2RZ7h
END:VEVENT
END:VCALENDAR