BEGIN:VCALENDAR
VERSION:2.0
PRODID:-//Athena//Youth Programs//EN
CALSCALE:GREGORIAN
METHOD:PUBLISH
X-WR-CALNAME:RAH Softball - Recreational (Girls Ages 6-14)
X-WR-TIMEZONE:America/Denver
BEGIN:VEVENT
UID:program-recsWY7c3yxRoRLKc-season@athena.com
DTSTAMP:20260423T222807Z
DTSTART;VALUE=DATE:20260411
DTEND;VALUE=DATE:20260628
SUMMARY:RAH Softball - Recreational (Girls Ages 6-14)
DESCRIPTION:Offered by: Highland Youth Sports\nAges: 6–14\nRegister at: htt
 ps://www.highlandyouthsports.com/Default.aspx?tabid=803260\nView on Athena
 : https://athena.com/programs/recsWY7c3yxRoRLKc
LOCATION:Highland\, UT
URL:https://athena.com/programs/recsWY7c3yxRoRLKc
END:VEVENT
BEGIN:VEVENT
UID:program-recsWY7c3yxRoRLKc-deadline@athena.com
DTSTAMP:20260423T222807Z
DTSTART;VALUE=DATE:20260215
DTEND;VALUE=DATE:20260216
SUMMARY:Register by today: RAH Softball - Recreational (Girls Ages 6-14)
DESCRIPTION:Registration deadline for RAH Softball - Recreational (Girls Ag
 es 6-14).\n\nOffered by: Highland Youth Sports\nAges: 6–14\nRegister at: h
 ttps://www.highlandyouthsports.com/Default.aspx?tabid=803260\nView on Athe
 na: https://athena.com/programs/recsWY7c3yxRoRLKc
LOCATION:Highland\, UT
URL:https://athena.com/programs/recsWY7c3yxRoRLKc
END:VEVENT
END:VCALENDAR