BEGIN:VCALENDAR
VERSION:2.0
PRODID:-//Athena//Youth Programs//EN
CALSCALE:GREGORIAN
METHOD:PUBLISH
X-WR-CALNAME:BYU Cubs Football 1 Combined Sessions
X-WR-TIMEZONE:America/Denver
BEGIN:VEVENT
UID:program-recrNHiJAEjdMZS2p-season@athena.com
DTSTAMP:20260423T222955Z
DTSTART;VALUE=DATE:20260604
DTEND;VALUE=DATE:20260607
SUMMARY:BYU Cubs Football 1 Combined Sessions
DESCRIPTION:Offered by: BYU Sports Camps\nCost: $300\nRegister at: https://
 campscui.active.com/orgs/BrighamYoungUniversity0?newcui=true#/selectSessio
 ns/3741635\nView on Athena: https://athena.com/programs/recrNHiJAEjdMZS2p
LOCATION:Provo\, UT
URL:https://athena.com/programs/recrNHiJAEjdMZS2p
END:VEVENT
END:VCALENDAR