BEGIN:VCALENDAR
VERSION:2.0
PRODID:-//Athena//Youth Programs//EN
CALSCALE:GREGORIAN
METHOD:PUBLISH
X-WR-CALNAME:TC The Club Volleyball
X-WR-TIMEZONE:America/Denver
BEGIN:VEVENT
UID:program-recrD1KnskaLYXrQt-season@athena.com
DTSTAMP:20260423T223204Z
DTSTART;VALUE=DATE:20251104
DTEND;VALUE=DATE:20251105
SUMMARY:TC The Club Volleyball
DESCRIPTION:Offered by: TC - The Club\nAges: 12–14\nRegister at: https://ww
 w.tc-theclub.com/\nView on Athena: https://athena.com/programs/recrD1Knska
 LYXrQt
LOCATION:Lehi\, UT
URL:https://athena.com/programs/recrD1KnskaLYXrQt
END:VEVENT
END:VCALENDAR