BEGIN:VCALENDAR
VERSION:2.0
PRODID:-//Athena//Youth Programs//EN
CALSCALE:GREGORIAN
METHOD:PUBLISH
X-WR-CALNAME:North Utah County Soccer (NUCS) - Spring 2026
X-WR-TIMEZONE:America/Denver
BEGIN:VEVENT
UID:program-recqPC0gJwoW4IL45-deadline@athena.com
DTSTAMP:20260423T222847Z
DTSTART;VALUE=DATE:20260201
DTEND;VALUE=DATE:20260202
SUMMARY:Register by today: North Utah County Soccer (NUCS) - Spring 2026
DESCRIPTION:Registration deadline for North Utah County Soccer (NUCS) - Spr
 ing 2026.\n\nOffered by: North Utah County Soccer\nRegister at: https://ww
 w.northutahcountysoccer.com/\nView on Athena: https://athena.com/programs/
 recqPC0gJwoW4IL45
LOCATION:Lehi\, UT
URL:https://athena.com/programs/recqPC0gJwoW4IL45
END:VEVENT
END:VCALENDAR