BEGIN:VCALENDAR
VERSION:2.0
PRODID:-//Athena//Youth Programs//EN
CALSCALE:GREGORIAN
METHOD:PUBLISH
X-WR-CALNAME:RSL Field Camp - Orem (Ages 5-18)
X-WR-TIMEZONE:America/Denver
BEGIN:VEVENT
UID:program-recpukrWBnTJYiGwe-season@athena.com
DTSTAMP:20260423T223204Z
DTSTART;VALUE=DATE:20260629
DTEND;VALUE=DATE:20260703
SUMMARY:RSL Field Camp - Orem (Ages 5-18)
DESCRIPTION:Offered by: Real Salt Lake\nAges: 5–18\nRegister at: https://rs
 l.activityreg.com/selectActivity\nView on Athena: https://athena.com/progr
 ams/recpukrWBnTJYiGwe
LOCATION:Orem\, UT
URL:https://athena.com/programs/recpukrWBnTJYiGwe
END:VEVENT
END:VCALENDAR