BEGIN:VCALENDAR
VERSION:2.0
PRODID:-//Athena//Youth Programs//EN
CALSCALE:GREGORIAN
METHOD:PUBLISH
X-WR-CALNAME:Saratoga Water Palooza Camp (Ages 6-11)
X-WR-TIMEZONE:America/Denver
BEGIN:VEVENT
UID:program-recpuddD4D3CusRRv-season@athena.com
DTSTAMP:20260423T222813Z
DTSTART;VALUE=DATE:20260720
DTEND;VALUE=DATE:20260724
SUMMARY:Saratoga Water Palooza Camp (Ages 6-11)
DESCRIPTION:Offered by: Saratoga Springs Recreation\nAges: 6–11\nCost: $85\
 nRegister at: https://www.saratogasprings-ut.gov/2291/Saratoga-Summer-Camp
 s\nView on Athena: https://athena.com/programs/recpuddD4D3CusRRv
LOCATION:Saratoga Springs\, UT
URL:https://athena.com/programs/recpuddD4D3CusRRv
END:VEVENT
END:VCALENDAR