BEGIN:VCALENDAR
VERSION:2.0
PRODID:-//Athena//Youth Programs//EN
CALSCALE:GREGORIAN
METHOD:PUBLISH
X-WR-CALNAME:BYU Cubs Golf 2: Afternoon Session
X-WR-TIMEZONE:America/Denver
BEGIN:VEVENT
UID:program-recpop5u3xhpkh9gN-season@athena.com
DTSTAMP:20260423T223131Z
DTSTART;VALUE=DATE:20260601
DTEND;VALUE=DATE:20260605
SUMMARY:BYU Cubs Golf 2: Afternoon Session
DESCRIPTION:Offered by: BYU Sports Camps\nCost: $310\nRegister at: https://
 campscui.active.com/orgs/BrighamYoungUniversity0?newcui=true#/selectSessio
 ns/3741635\nView on Athena: https://athena.com/programs/recpop5u3xhpkh9gN
LOCATION:American Fork\, UT
URL:https://athena.com/programs/recpop5u3xhpkh9gN
END:VEVENT
END:VCALENDAR