BEGIN:VCALENDAR
VERSION:2.0
PRODID:-//Athena//Youth Programs//EN
CALSCALE:GREGORIAN
METHOD:PUBLISH
X-WR-CALNAME:Youth Basketball (3rd-8th Grade)
X-WR-TIMEZONE:America/Denver
BEGIN:VEVENT
UID:program-recpe6L6D0pC5GeK5-season@athena.com
DTSTAMP:20260423T222848Z
DTSTART;VALUE=DATE:20261024
DTEND;VALUE=DATE:20261025
SUMMARY:Youth Basketball (3rd-8th Grade)
DESCRIPTION:Offered by: Lehi Legacy Center\nAges: 8–13\nRegister at: https:
 //www.lehi-ut.gov/recreation-community/legacy-center/sports/youth-sports/\
 nView on Athena: https://athena.com/programs/recpe6L6D0pC5GeK5
LOCATION:Lehi\, UT
URL:https://athena.com/programs/recpe6L6D0pC5GeK5
END:VEVENT
BEGIN:VEVENT
UID:program-recpe6L6D0pC5GeK5-deadline@athena.com
DTSTAMP:20260423T222848Z
DTSTART;VALUE=DATE:20261014
DTEND;VALUE=DATE:20261015
SUMMARY:Register by today: Youth Basketball (3rd-8th Grade)
DESCRIPTION:Registration deadline for Youth Basketball (3rd-8th Grade).\n\n
 Offered by: Lehi Legacy Center\nAges: 8–13\nRegister at: https://www.lehi-
 ut.gov/recreation-community/legacy-center/sports/youth-sports/\nView on At
 hena: https://athena.com/programs/recpe6L6D0pC5GeK5
LOCATION:Lehi\, UT
URL:https://athena.com/programs/recpe6L6D0pC5GeK5
END:VEVENT
END:VCALENDAR