BEGIN:VCALENDAR
VERSION:2.0
PRODID:-//Athena//Youth Programs//EN
CALSCALE:GREGORIAN
METHOD:PUBLISH
X-WR-CALNAME:Impact United Soccer - Spring 2026 (Highland)
X-WR-TIMEZONE:America/Denver
BEGIN:VEVENT
UID:program-recpHTsBHerqaT2iY-season@athena.com
DTSTAMP:20260423T222650Z
DTSTART;VALUE=DATE:20260411
DTEND;VALUE=DATE:20260607
SUMMARY:Impact United Soccer - Spring 2026 (Highland)
DESCRIPTION:Offered by: Impact United Soccer Club\nRegister at: https://imp
 actunited.com/rec/\nView on Athena: https://athena.com/programs/recpHTsBHe
 rqaT2iY
LOCATION:Highland\, UT
URL:https://athena.com/programs/recpHTsBHerqaT2iY
END:VEVENT
END:VCALENDAR