BEGIN:VCALENDAR
VERSION:2.0
PRODID:-//Athena//Youth Programs//EN
CALSCALE:GREGORIAN
METHOD:PUBLISH
X-WR-CALNAME:Orem Fast Pitch Softball Tournament - 14U
X-WR-TIMEZONE:America/Denver
BEGIN:VEVENT
UID:program-recpHFoxNEJoF2JFK-season@athena.com
DTSTAMP:20260423T222807Z
DTSTART;VALUE=DATE:20260501
DTEND;VALUE=DATE:20260503
SUMMARY:Orem Fast Pitch Softball Tournament - 14U
DESCRIPTION:Offered by: Orem Recreation\nRegister at: https://www.oremrecre
 ation.com/youth-softball/\nView on Athena: https://athena.com/programs/rec
 pHFoxNEJoF2JFK
LOCATION:Orem\, UT
URL:https://athena.com/programs/recpHFoxNEJoF2JFK
END:VEVENT
END:VCALENDAR