BEGIN:VCALENDAR
VERSION:2.0
PRODID:-//Athena//Youth Programs//EN
CALSCALE:GREGORIAN
METHOD:PUBLISH
X-WR-CALNAME:Saratoga Games in the Park Camp (Ages 6-11)
X-WR-TIMEZONE:America/Denver
BEGIN:VEVENT
UID:program-recoGxc0xnG7ajy3v-season@athena.com
DTSTAMP:20260423T223205Z
DTSTART;VALUE=DATE:20260713
DTEND;VALUE=DATE:20260717
SUMMARY:Saratoga Games in the Park Camp (Ages 6-11)
DESCRIPTION:Offered by: Saratoga Springs Recreation\nAges: 6–11\nCost: $85\
 nRegister at: https://www.saratogasprings-ut.gov/2291/Saratoga-Summer-Camp
 s\nView on Athena: https://athena.com/programs/recoGxc0xnG7ajy3v
LOCATION:Saratoga Springs\, UT
URL:https://athena.com/programs/recoGxc0xnG7ajy3v
END:VEVENT
END:VCALENDAR