BEGIN:VCALENDAR
VERSION:2.0
PRODID:-//Athena//Youth Programs//EN
CALSCALE:GREGORIAN
METHOD:PUBLISH
X-WR-CALNAME:American Fork Youth Baseball
X-WR-TIMEZONE:America/Denver
BEGIN:VEVENT
UID:program-recnaQhy3gRzMi4AB-deadline@athena.com
DTSTAMP:20260423T223128Z
DTSTART;VALUE=DATE:20260225
DTEND;VALUE=DATE:20260226
SUMMARY:Register by today: American Fork Youth Baseball
DESCRIPTION:Registration deadline for American Fork Youth Baseball.\n\nOffe
 red by: American Fork Recreation\nRegister at: https://www.americanfork.go
 v/1021/Baseball\nView on Athena: https://athena.com/programs/recnaQhy3gRzM
 i4AB
LOCATION:American Fork\, UT
URL:https://athena.com/programs/recnaQhy3gRzMi4AB
END:VEVENT
END:VCALENDAR