BEGIN:VCALENDAR
VERSION:2.0
PRODID:-//Athena//Youth Programs//EN
CALSCALE:GREGORIAN
METHOD:PUBLISH
X-WR-CALNAME:Orem Fast Pitch Softball Tournament - 10U/12U
X-WR-TIMEZONE:America/Denver
BEGIN:VEVENT
UID:program-recn3oDkknbWBwZvn-season@athena.com
DTSTAMP:20260423T223204Z
DTSTART;VALUE=DATE:20260424
DTEND;VALUE=DATE:20260426
SUMMARY:Orem Fast Pitch Softball Tournament - 10U/12U
DESCRIPTION:Offered by: Orem Recreation\nRegister at: https://www.oremrecre
 ation.com/youth-softball/\nView on Athena: https://athena.com/programs/rec
 n3oDkknbWBwZvn
LOCATION:Orem\, UT
URL:https://athena.com/programs/recn3oDkknbWBwZvn
END:VEVENT
END:VCALENDAR