BEGIN:VCALENDAR
VERSION:2.0
PRODID:-//Athena//Youth Programs//EN
CALSCALE:GREGORIAN
METHOD:PUBLISH
X-WR-CALNAME:Soelberg Track Club – Utah Speed Academy
X-WR-TIMEZONE:America/Denver
BEGIN:VEVENT
UID:program-recmyhQkFkHnzMWTz-season@athena.com
DTSTAMP:20260423T223134Z
DTSTART;VALUE=DATE:20260413
DTEND;VALUE=DATE:20260712
SUMMARY:Soelberg Track Club – Utah Speed Academy
DESCRIPTION:Offered by: Utah Speed Academy\nAges: 6–18\nRegister at: https:
 //www.utahspeedacademy.com/soelberg-track-club\nView on Athena: https://at
 hena.com/programs/recmyhQkFkHnzMWTz
LOCATION:Lehi\, UT
URL:https://athena.com/programs/recmyhQkFkHnzMWTz
END:VEVENT
END:VCALENDAR