BEGIN:VCALENDAR
VERSION:2.0
PRODID:-//Athena//Youth Programs//EN
CALSCALE:GREGORIAN
METHOD:PUBLISH
X-WR-CALNAME:Pleasant Grove Youth Football (Ages 7-15)
X-WR-TIMEZONE:America/Denver
BEGIN:VEVENT
UID:program-recmyTanzC9vQq546-deadline@athena.com
DTSTAMP:20260423T223138Z
DTSTART;VALUE=DATE:20260819
DTEND;VALUE=DATE:20260820
SUMMARY:Register by today: Pleasant Grove Youth Football (Ages 7-15)
DESCRIPTION:Registration deadline for Pleasant Grove Youth Football (Ages 7
 -15).\n\nOffered by: Pleasant Grove Youth Football\nAges: 7–15\nRegister a
 t: https://pgyf.com/\nView on Athena: https://athena.com/programs/recmyTan
 zC9vQq546
LOCATION:Pleasant Grove\, UT
URL:https://athena.com/programs/recmyTanzC9vQq546
END:VEVENT
END:VCALENDAR