BEGIN:VCALENDAR
VERSION:2.0
PRODID:-//Athena//Youth Programs//EN
CALSCALE:GREGORIAN
METHOD:PUBLISH
X-WR-CALNAME:Spanish Fork Youth Arts Festival
X-WR-TIMEZONE:America/Denver
BEGIN:VEVENT
UID:program-recmwW6Bf2bp6xfhr-season@athena.com
DTSTAMP:20260423T223135Z
DTSTART;VALUE=DATE:20260601
DTEND;VALUE=DATE:20260613
SUMMARY:Spanish Fork Youth Arts Festival
DESCRIPTION:Offered by: Spanish Fork Parks & Recreation\nAges: 5–17\nCost: 
 $45\nRegister at: https://www.spanishfork.gov/departments/parkrec/arts/yaf
 .php\nView on Athena: https://athena.com/programs/recmwW6Bf2bp6xfhr
LOCATION:Provo\, UT
URL:https://athena.com/programs/recmwW6Bf2bp6xfhr
END:VEVENT
END:VCALENDAR