BEGIN:VCALENDAR
VERSION:2.0
PRODID:-//Athena//Youth Programs//EN
CALSCALE:GREGORIAN
METHOD:PUBLISH
X-WR-CALNAME:Girls Softball
X-WR-TIMEZONE:America/Denver
BEGIN:VEVENT
UID:program-recmW09SA1Tnpyc7S-season@athena.com
DTSTAMP:20260423T222629Z
DTSTART;VALUE=DATE:20260314
DTEND;VALUE=DATE:20260315
SUMMARY:Girls Softball
DESCRIPTION:Offered by: Lehi Legacy Center\nAges: 8–17\nRegister at: https:
 //www.lehi-ut.gov/recreation-community/legacy-center/sports/youth-sports/\
 nView on Athena: https://athena.com/programs/recmW09SA1Tnpyc7S
LOCATION:Lehi\, UT
URL:https://athena.com/programs/recmW09SA1Tnpyc7S
END:VEVENT
BEGIN:VEVENT
UID:program-recmW09SA1Tnpyc7S-deadline@athena.com
DTSTAMP:20260423T222629Z
DTSTART;VALUE=DATE:20260211
DTEND;VALUE=DATE:20260212
SUMMARY:Register by today: Girls Softball
DESCRIPTION:Registration deadline for Girls Softball.\n\nOffered by: Lehi L
 egacy Center\nAges: 8–17\nRegister at: https://www.lehi-ut.gov/recreation-
 community/legacy-center/sports/youth-sports/\nView on Athena: https://athe
 na.com/programs/recmW09SA1Tnpyc7S
LOCATION:Lehi\, UT
URL:https://athena.com/programs/recmW09SA1Tnpyc7S
END:VEVENT
END:VCALENDAR