BEGIN:VCALENDAR
VERSION:2.0
PRODID:-//Athena//Youth Programs//EN
CALSCALE:GREGORIAN
METHOD:PUBLISH
X-WR-CALNAME:Intermountain Lacrosse
X-WR-TIMEZONE:America/Denver
BEGIN:VEVENT
UID:program-recm4cfzJ9GymXe3O-deadline@athena.com
DTSTAMP:20260423T222958Z
DTSTART;VALUE=DATE:20261125
DTEND;VALUE=DATE:20261126
SUMMARY:Register by today: Intermountain Lacrosse
DESCRIPTION:Registration deadline for Intermountain Lacrosse.\n\nOffered by
 : Intermountain Lacrosse\nAges: 5–14\nRegister at: https://www.imlaxutah.o
 rg/boys-youth\nView on Athena: https://athena.com/programs/recm4cfzJ9GymXe
 3O
LOCATION:Lehi\, UT
URL:https://athena.com/programs/recm4cfzJ9GymXe3O
END:VEVENT
END:VCALENDAR