BEGIN:VCALENDAR
VERSION:2.0
PRODID:-//Athena//Youth Programs//EN
CALSCALE:GREGORIAN
METHOD:PUBLISH
X-WR-CALNAME:Fall Wrestling
X-WR-TIMEZONE:America/Denver
BEGIN:VEVENT
UID:program-reclo3rrScsZQrnnn-season@athena.com
DTSTAMP:20260423T223206Z
DTSTART;VALUE=DATE:20261001
DTEND;VALUE=DATE:20261002
SUMMARY:Fall Wrestling
DESCRIPTION:Offered by: Lehi Legacy Center\nAges: 5–9\nRegister at: https:/
 /www.lehi-ut.gov/recreation-community/legacy-center/sports/youth-sports/\n
 View on Athena: https://athena.com/programs/reclo3rrScsZQrnnn
LOCATION:Lehi\, UT
URL:https://athena.com/programs/reclo3rrScsZQrnnn
END:VEVENT
BEGIN:VEVENT
UID:program-reclo3rrScsZQrnnn-deadline@athena.com
DTSTAMP:20260423T223206Z
DTSTART;VALUE=DATE:20260916
DTEND;VALUE=DATE:20260917
SUMMARY:Register by today: Fall Wrestling
DESCRIPTION:Registration deadline for Fall Wrestling.\n\nOffered by: Lehi L
 egacy Center\nAges: 5–9\nRegister at: https://www.lehi-ut.gov/recreation-c
 ommunity/legacy-center/sports/youth-sports/\nView on Athena: https://athen
 a.com/programs/reclo3rrScsZQrnnn
LOCATION:Lehi\, UT
URL:https://athena.com/programs/reclo3rrScsZQrnnn
END:VEVENT
END:VCALENDAR