BEGIN:VCALENDAR
VERSION:2.0
PRODID:-//Athena//Youth Programs//EN
CALSCALE:GREGORIAN
METHOD:PUBLISH
X-WR-CALNAME:Saratoga Springs Youth Track & Field
X-WR-TIMEZONE:America/Denver
BEGIN:VEVENT
UID:program-recl5UwDuixKLO9Se-deadline@athena.com
DTSTAMP:20260423T222647Z
DTSTART;VALUE=DATE:20260323
DTEND;VALUE=DATE:20260324
SUMMARY:Register by today: Saratoga Springs Youth Track & Field
DESCRIPTION:Registration deadline for Saratoga Springs Youth Track & Field.
 \n\nOffered by: Saratoga Springs Recreation\nRegister at: https://www.sara
 togasprings-ut.gov/373/Track-Field\nView on Athena: https://athena.com/pro
 grams/recl5UwDuixKLO9Se
LOCATION:Saratoga Springs\, UT
URL:https://athena.com/programs/recl5UwDuixKLO9Se
END:VEVENT
END:VCALENDAR