BEGIN:VCALENDAR
VERSION:2.0
PRODID:-//Athena//Youth Programs//EN
CALSCALE:GREGORIAN
METHOD:PUBLISH
X-WR-CALNAME:BYU Cubs Soccer 1
X-WR-TIMEZONE:America/Denver
BEGIN:VEVENT
UID:program-reckKtf5SjQROu8SY-season@athena.com
DTSTAMP:20260423T222844Z
DTSTART;VALUE=DATE:20260601
DTEND;VALUE=DATE:20260605
SUMMARY:BYU Cubs Soccer 1
DESCRIPTION:Offered by: BYU Sports Camps\nCost: $215\nRegister at: https://
 campscui.active.com/orgs/BrighamYoungUniversity0?newcui=true#/selectSessio
 ns/3741635\nView on Athena: https://athena.com/programs/reckKtf5SjQROu8SY
LOCATION:Provo\, UT
URL:https://athena.com/programs/reckKtf5SjQROu8SY
END:VEVENT
END:VCALENDAR