BEGIN:VCALENDAR
VERSION:2.0
PRODID:-//Athena//Youth Programs//EN
CALSCALE:GREGORIAN
METHOD:PUBLISH
X-WR-CALNAME:Golf
X-WR-TIMEZONE:America/Denver
BEGIN:VEVENT
UID:program-recjllcy9SaXXlwRC-season@athena.com
DTSTAMP:20260423T204932Z
DTSTART;VALUE=DATE:20260601
DTEND;VALUE=DATE:20260602
SUMMARY:Golf
DESCRIPTION:Offered by: Lehi Legacy Center\nAges: 5–17\nRegister at: https:
 //rostermio.com/pdfs/lehi-summer-golf-2026.pdf\nView on Athena: https://at
 hena.com/programs/recjllcy9SaXXlwRC
LOCATION:Lehi\, UT
URL:https://athena.com/programs/recjllcy9SaXXlwRC
END:VEVENT
BEGIN:VEVENT
UID:program-recjllcy9SaXXlwRC-deadline@athena.com
DTSTAMP:20260423T204932Z
DTSTART;VALUE=DATE:20260520
DTEND;VALUE=DATE:20260521
SUMMARY:Register by today: Golf
DESCRIPTION:Registration deadline for Golf.\n\nOffered by: Lehi Legacy Cent
 er\nAges: 5–17\nRegister at: https://rostermio.com/pdfs/lehi-summer-golf-2
 026.pdf\nView on Athena: https://athena.com/programs/recjllcy9SaXXlwRC
LOCATION:Lehi\, UT
URL:https://athena.com/programs/recjllcy9SaXXlwRC
END:VEVENT
END:VCALENDAR