BEGIN:VCALENDAR
VERSION:2.0
PRODID:-//Athena//Youth Programs//EN
CALSCALE:GREGORIAN
METHOD:PUBLISH
X-WR-CALNAME:Herriman Youth Baseball 2026
X-WR-TIMEZONE:America/Denver
BEGIN:VEVENT
UID:program-recjCh3CaNX85RnWd-deadline@athena.com
DTSTAMP:20260423T222847Z
DTSTART;VALUE=DATE:20260228
DTEND;VALUE=DATE:20260301
SUMMARY:Register by today: Herriman Youth Baseball 2026
DESCRIPTION:Registration deadline for Herriman Youth Baseball 2026.\n\nOffe
 red by: Herriman Youth Baseball\nRegister at: https://www.herrimanbaseball
 .com/\nView on Athena: https://athena.com/programs/recjCh3CaNX85RnWd
LOCATION:Herriman\, UT
URL:https://athena.com/programs/recjCh3CaNX85RnWd
END:VEVENT
END:VCALENDAR