BEGIN:VCALENDAR
VERSION:2.0
PRODID:-//Athena//Youth Programs//EN
CALSCALE:GREGORIAN
METHOD:PUBLISH
X-WR-CALNAME:UPG Baseball
X-WR-TIMEZONE:America/Denver
BEGIN:VEVENT
UID:program-recioKemy1DpmKoPH-season@athena.com
DTSTAMP:20260423T222246Z
DTSTART;VALUE=DATE:20260413
DTEND;VALUE=DATE:20260414
SUMMARY:UPG Baseball
DESCRIPTION:Offered by: UPG Baseball\nAges: 12–14\nRegister at: https://www
 .upgbaseball.com/portfolio_category/leagues/\nView on Athena: https://athe
 na.com/programs/recioKemy1DpmKoPH
LOCATION:Lehi\, UT
URL:https://athena.com/programs/recioKemy1DpmKoPH
END:VEVENT
END:VCALENDAR