BEGIN:VCALENDAR
VERSION:2.0
PRODID:-//Athena//Youth Programs//EN
CALSCALE:GREGORIAN
METHOD:PUBLISH
X-WR-CALNAME:BYU Boys Basketball 1
X-WR-TIMEZONE:America/Denver
BEGIN:VEVENT
UID:program-reciKueRbTckglEg6-season@athena.com
DTSTAMP:20260423T222959Z
DTSTART;VALUE=DATE:20260601
DTEND;VALUE=DATE:20260606
SUMMARY:BYU Boys Basketball 1
DESCRIPTION:Offered by: BYU Sports Camps\nCost: $540\nRegister at: https://
 campscui.active.com/orgs/BrighamYoungUniversity0?newcui=true#/selectSessio
 ns/3741635\nView on Athena: https://athena.com/programs/reciKueRbTckglEg6
LOCATION:Provo\, UT
URL:https://athena.com/programs/reciKueRbTckglEg6
END:VEVENT
END:VCALENDAR