BEGIN:VCALENDAR
VERSION:2.0
PRODID:-//Athena//Youth Programs//EN
CALSCALE:GREGORIAN
METHOD:PUBLISH
X-WR-CALNAME:BYU Boys Rugby
X-WR-TIMEZONE:America/Denver
BEGIN:VEVENT
UID:program-rechn6QbTStt0a2wA-season@athena.com
DTSTAMP:20260423T222845Z
DTSTART;VALUE=DATE:20260615
DTEND;VALUE=DATE:20260620
SUMMARY:BYU Boys Rugby
DESCRIPTION:Offered by: BYU Sports Camps\nCost: $470\nRegister at: https://
 campscui.active.com/orgs/BrighamYoungUniversity0?newcui=true#/selectSessio
 ns/3741635\nView on Athena: https://athena.com/programs/rechn6QbTStt0a2wA
LOCATION:Provo\, UT
URL:https://athena.com/programs/rechn6QbTStt0a2wA
END:VEVENT
END:VCALENDAR