BEGIN:VCALENDAR
VERSION:2.0
PRODID:-//Athena//Youth Programs//EN
CALSCALE:GREGORIAN
METHOD:PUBLISH
X-WR-CALNAME:BYU Sports Camps - Soccer
X-WR-TIMEZONE:America/Denver
BEGIN:VEVENT
UID:program-recgOwYDhiHANwQd1-season@athena.com
DTSTAMP:20260423T222847Z
DTSTART;VALUE=DATE:20260425
DTEND;VALUE=DATE:20260809
SUMMARY:BYU Sports Camps - Soccer
DESCRIPTION:Offered by: BYU Sports Camps\nRegister at: https://www.byusport
 scamps.com/\nView on Athena: https://athena.com/programs/recgOwYDhiHANwQd1
LOCATION:Provo\, UT
URL:https://athena.com/programs/recgOwYDhiHANwQd1
END:VEVENT
END:VCALENDAR