BEGIN:VCALENDAR
VERSION:2.0
PRODID:-//Athena//Youth Programs//EN
CALSCALE:GREGORIAN
METHOD:PUBLISH
X-WR-CALNAME:Youth Basketball (K-2nd Grade)
X-WR-TIMEZONE:America/Denver
BEGIN:VEVENT
UID:program-recfhcmgf2wmCBYHm-season@athena.com
DTSTAMP:20260423T223041Z
DTSTART;VALUE=DATE:20260912
DTEND;VALUE=DATE:20260913
SUMMARY:Youth Basketball (K-2nd Grade)
DESCRIPTION:Offered by: Lehi Legacy Center\nAges: 5–7\nRegister at: https:/
 /www.lehi-ut.gov/recreation-community/legacy-center/sports/youth-sports/\n
 View on Athena: https://athena.com/programs/recfhcmgf2wmCBYHm
LOCATION:Lehi\, UT
URL:https://athena.com/programs/recfhcmgf2wmCBYHm
END:VEVENT
BEGIN:VEVENT
UID:program-recfhcmgf2wmCBYHm-deadline@athena.com
DTSTAMP:20260423T223041Z
DTSTART;VALUE=DATE:20260819
DTEND;VALUE=DATE:20260820
SUMMARY:Register by today: Youth Basketball (K-2nd Grade)
DESCRIPTION:Registration deadline for Youth Basketball (K-2nd Grade).\n\nOf
 fered by: Lehi Legacy Center\nAges: 5–7\nRegister at: https://www.lehi-ut.
 gov/recreation-community/legacy-center/sports/youth-sports/\nView on Athen
 a: https://athena.com/programs/recfhcmgf2wmCBYHm
LOCATION:Lehi\, UT
URL:https://athena.com/programs/recfhcmgf2wmCBYHm
END:VEVENT
END:VCALENDAR