BEGIN:VCALENDAR
VERSION:2.0
PRODID:-//Athena//Youth Programs//EN
CALSCALE:GREGORIAN
METHOD:PUBLISH
X-WR-CALNAME:BYU Tennis 2
X-WR-TIMEZONE:America/Denver
BEGIN:VEVENT
UID:program-recfQ0RBl8JTLxsSN-season@athena.com
DTSTAMP:20260423T223006Z
DTSTART;VALUE=DATE:20260615
DTEND;VALUE=DATE:20260621
SUMMARY:BYU Tennis 2
DESCRIPTION:Offered by: BYU Sports Camps\nCost: $699\nRegister at: https://
 campscui.active.com/orgs/BrighamYoungUniversity0?newcui=true#/selectSessio
 ns/3741635\nView on Athena: https://athena.com/programs/recfQ0RBl8JTLxsSN
LOCATION:Provo\, UT
URL:https://athena.com/programs/recfQ0RBl8JTLxsSN
END:VEVENT
END:VCALENDAR