BEGIN:VCALENDAR
VERSION:2.0
PRODID:-//Athena//Youth Programs//EN
CALSCALE:GREGORIAN
METHOD:PUBLISH
X-WR-CALNAME:BYU Cubs Football 2 Morning Session
X-WR-TIMEZONE:America/Denver
BEGIN:VEVENT
UID:program-recf6sRbD67zApdvT-season@athena.com
DTSTAMP:20260423T222629Z
DTSTART;VALUE=DATE:20260611
DTEND;VALUE=DATE:20260614
SUMMARY:BYU Cubs Football 2 Morning Session
DESCRIPTION:Offered by: BYU Sports Camps\nCost: $140\nRegister at: https://
 campscui.active.com/orgs/BrighamYoungUniversity0?newcui=true#/selectSessio
 ns/3741635\nView on Athena: https://athena.com/programs/recf6sRbD67zApdvT
LOCATION:Provo\, UT
URL:https://athena.com/programs/recf6sRbD67zApdvT
END:VEVENT
END:VCALENDAR