BEGIN:VCALENDAR
VERSION:2.0
PRODID:-//Athena//Youth Programs//EN
CALSCALE:GREGORIAN
METHOD:PUBLISH
X-WR-CALNAME:BYU Swimming 2
X-WR-TIMEZONE:America/Denver
BEGIN:VEVENT
UID:program-recegedPiOIKVIVSQ-season@athena.com
DTSTAMP:20260423T222620Z
DTSTART;VALUE=DATE:20260608
DTEND;VALUE=DATE:20260613
SUMMARY:BYU Swimming 2
DESCRIPTION:Offered by: BYU Sports Camps\nCost: $515\nRegister at: https://
 campscui.active.com/orgs/BrighamYoungUniversity0?newcui=true#/selectSessio
 ns/3741635\nView on Athena: https://athena.com/programs/recegedPiOIKVIVSQ
LOCATION:Provo\, UT
URL:https://athena.com/programs/recegedPiOIKVIVSQ
END:VEVENT
END:VCALENDAR