BEGIN:VCALENDAR
VERSION:2.0
PRODID:-//Athena//Youth Programs//EN
CALSCALE:GREGORIAN
METHOD:PUBLISH
X-WR-CALNAME:BYU Special Teams Football
X-WR-TIMEZONE:America/Denver
BEGIN:VEVENT
UID:program-reccylC3vo5hT1JnE-season@athena.com
DTSTAMP:20260423T223205Z
DTSTART;VALUE=DATE:20260610
DTEND;VALUE=DATE:20260612
SUMMARY:BYU Special Teams Football
DESCRIPTION:Offered by: BYU Sports Camps\nCost: $140\nRegister at: https://
 campscui.active.com/orgs/BrighamYoungUniversity0?newcui=true#/selectSessio
 ns/3741635\nView on Athena: https://athena.com/programs/reccylC3vo5hT1JnE
LOCATION:Provo\, UT
URL:https://athena.com/programs/reccylC3vo5hT1JnE
END:VEVENT
END:VCALENDAR