BEGIN:VCALENDAR
VERSION:2.0
PRODID:-//Athena//Youth Programs//EN
CALSCALE:GREGORIAN
METHOD:PUBLISH
X-WR-CALNAME:BYU Swimming 3
X-WR-TIMEZONE:America/Denver
BEGIN:VEVENT
UID:program-reccZDurpgH9FYarI-season@athena.com
DTSTAMP:20260423T222324Z
DTSTART;VALUE=DATE:20260615
DTEND;VALUE=DATE:20260620
SUMMARY:BYU Swimming 3
DESCRIPTION:Offered by: BYU Sports Camps\nCost: $515\nRegister at: https://
 campscui.active.com/orgs/BrighamYoungUniversity0?newcui=true#/selectSessio
 ns/3741635\nView on Athena: https://athena.com/programs/reccZDurpgH9FYarI
LOCATION:Provo\, UT
URL:https://athena.com/programs/reccZDurpgH9FYarI
END:VEVENT
END:VCALENDAR