BEGIN:VCALENDAR
VERSION:2.0
PRODID:-//Athena//Youth Programs//EN
CALSCALE:GREGORIAN
METHOD:PUBLISH
X-WR-CALNAME:BYU Sports Camps - Football
X-WR-TIMEZONE:America/Denver
BEGIN:VEVENT
UID:program-reccB3dFgt6lw9SVU-season@athena.com
DTSTAMP:20260423T223135Z
DTSTART;VALUE=DATE:20260425
DTEND;VALUE=DATE:20260809
SUMMARY:BYU Sports Camps - Football
DESCRIPTION:Offered by: BYU Sports Camps\nRegister at: https://www.byusport
 scamps.com/\nView on Athena: https://athena.com/programs/reccB3dFgt6lw9SVU
LOCATION:Provo\, UT
URL:https://athena.com/programs/reccB3dFgt6lw9SVU
END:VEVENT
END:VCALENDAR