BEGIN:VCALENDAR
VERSION:2.0
PRODID:-//Athena//Youth Programs//EN
CALSCALE:GREGORIAN
METHOD:PUBLISH
X-WR-CALNAME:Indoor Soccer
X-WR-TIMEZONE:America/Denver
BEGIN:VEVENT
UID:program-recbddzPudQigXcVK-season@athena.com
DTSTAMP:20260423T222806Z
DTSTART;VALUE=DATE:20260120
DTEND;VALUE=DATE:20260121
SUMMARY:Indoor Soccer
DESCRIPTION:Offered by: Lehi Legacy Center\nAges: 5–14\nRegister at: https:
 //www.lehi-ut.gov/recreation-community/legacy-center/sports/youth-sports/\
 nView on Athena: https://athena.com/programs/recbddzPudQigXcVK
LOCATION:Lehi\, UT
URL:https://athena.com/programs/recbddzPudQigXcVK
END:VEVENT
BEGIN:VEVENT
UID:program-recbddzPudQigXcVK-deadline@athena.com
DTSTAMP:20260423T222806Z
DTSTART;VALUE=DATE:20260114
DTEND;VALUE=DATE:20260115
SUMMARY:Register by today: Indoor Soccer
DESCRIPTION:Registration deadline for Indoor Soccer.\n\nOffered by: Lehi Le
 gacy Center\nAges: 5–14\nRegister at: https://www.lehi-ut.gov/recreation-c
 ommunity/legacy-center/sports/youth-sports/\nView on Athena: https://athen
 a.com/programs/recbddzPudQigXcVK
LOCATION:Lehi\, UT
URL:https://athena.com/programs/recbddzPudQigXcVK
END:VEVENT
END:VCALENDAR