BEGIN:VCALENDAR
VERSION:2.0
PRODID:-//Athena//Youth Programs//EN
CALSCALE:GREGORIAN
METHOD:PUBLISH
X-WR-CALNAME:BYU Speed and Strength
X-WR-TIMEZONE:America/Denver
BEGIN:VEVENT
UID:program-recb3MLrXVVinaPgc-season@athena.com
DTSTAMP:20260423T222619Z
DTSTART;VALUE=DATE:20260615
DTEND;VALUE=DATE:20260619
SUMMARY:BYU Speed and Strength
DESCRIPTION:Offered by: BYU Sports Camps\nCost: $130\nRegister at: https://
 campscui.active.com/orgs/BrighamYoungUniversity0?newcui=true#/selectSessio
 ns/3741635\nView on Athena: https://athena.com/programs/recb3MLrXVVinaPgc
LOCATION:Provo\, UT
URL:https://athena.com/programs/recb3MLrXVVinaPgc
END:VEVENT
END:VCALENDAR