BEGIN:VCALENDAR
VERSION:2.0
PRODID:-//Athena//Youth Programs//EN
CALSCALE:GREGORIAN
METHOD:PUBLISH
X-WR-CALNAME:Flag Football
X-WR-TIMEZONE:America/Denver
BEGIN:VEVENT
UID:program-recaHOJda1Q4gV48w-season@athena.com
DTSTAMP:20260423T223003Z
DTSTART;VALUE=DATE:20260829
DTEND;VALUE=DATE:20260830
SUMMARY:Flag Football
DESCRIPTION:Offered by: Lehi Legacy Center\nAges: 5–15\nRegister at: https:
 //www.lehi-ut.gov/recreation-community/legacy-center/sports/youth-sports/\
 nView on Athena: https://athena.com/programs/recaHOJda1Q4gV48w
LOCATION:Lehi\, UT
URL:https://athena.com/programs/recaHOJda1Q4gV48w
END:VEVENT
BEGIN:VEVENT
UID:program-recaHOJda1Q4gV48w-deadline@athena.com
DTSTAMP:20260423T223003Z
DTSTART;VALUE=DATE:20260708
DTEND;VALUE=DATE:20260709
SUMMARY:Register by today: Flag Football
DESCRIPTION:Registration deadline for Flag Football.\n\nOffered by: Lehi Le
 gacy Center\nAges: 5–15\nRegister at: https://www.lehi-ut.gov/recreation-c
 ommunity/legacy-center/sports/youth-sports/\nView on Athena: https://athen
 a.com/programs/recaHOJda1Q4gV48w
LOCATION:Lehi\, UT
URL:https://athena.com/programs/recaHOJda1Q4gV48w
END:VEVENT
END:VCALENDAR