BEGIN:VCALENDAR
VERSION:2.0
PRODID:-//Athena//Youth Programs//EN
CALSCALE:GREGORIAN
METHOD:PUBLISH
X-WR-CALNAME:UPG Baseball - Spring Weekday League
X-WR-TIMEZONE:America/Denver
BEGIN:VEVENT
UID:program-recZQUr4qqfxxxKeh-deadline@athena.com
DTSTAMP:20260423T223203Z
DTSTART;VALUE=DATE:20260301
DTEND;VALUE=DATE:20260302
SUMMARY:Register by today: UPG Baseball - Spring Weekday League
DESCRIPTION:Registration deadline for UPG Baseball - Spring Weekday League.
 \n\nOffered by: UPG Baseball\nAges: 9–13\nRegister at: https://www.upgbase
 ball.com/baseball/spring-weekday-league/\nView on Athena: https://athena.c
 om/programs/recZQUr4qqfxxxKeh
LOCATION:Lehi\, UT
URL:https://athena.com/programs/recZQUr4qqfxxxKeh
END:VEVENT
END:VCALENDAR