BEGIN:VCALENDAR
VERSION:2.0
PRODID:-//Athena//Youth Programs//EN
CALSCALE:GREGORIAN
METHOD:PUBLISH
X-WR-CALNAME:BYU Spring Volleyball (Beginner-Intermediate)
X-WR-TIMEZONE:America/Denver
BEGIN:VEVENT
UID:program-recZ3LNEqmufIyVxZ-season@athena.com
DTSTAMP:20260423T223206Z
DTSTART;VALUE=DATE:20260425
DTEND;VALUE=DATE:20260427
SUMMARY:BYU Spring Volleyball (Beginner-Intermediate)
DESCRIPTION:Offered by: BYU Sports Camps\nCost: $135\nRegister at: https://
 campscui.active.com/orgs/BrighamYoungUniversity0?newcui=true#/selectSessio
 ns/3741635\nView on Athena: https://athena.com/programs/recZ3LNEqmufIyVxZ
LOCATION:Provo\, UT
URL:https://athena.com/programs/recZ3LNEqmufIyVxZ
END:VEVENT
END:VCALENDAR