BEGIN:VCALENDAR
VERSION:2.0
PRODID:-//Athena//Youth Programs//EN
CALSCALE:GREGORIAN
METHOD:PUBLISH
X-WR-CALNAME:Pleasant Grove Youth Baseball (Ages 8-9)
X-WR-TIMEZONE:America/Denver
BEGIN:VEVENT
UID:program-recYiWZw0fetRIE61-deadline@athena.com
DTSTAMP:20260423T223003Z
DTSTART;VALUE=DATE:20260415
DTEND;VALUE=DATE:20260416
SUMMARY:Register by today: Pleasant Grove Youth Baseball (Ages 8-9)
DESCRIPTION:Registration deadline for Pleasant Grove Youth Baseball (Ages 8
 -9).\n\nOffered by: Pleasant Grove Recreation\nAges: 8–9\nRegister at: htt
 ps://pgrec.activityreg.com/selectactivity_t2.wcs\nView on Athena: https://
 athena.com/programs/recYiWZw0fetRIE61
LOCATION:Pleasant Grove\, UT
URL:https://athena.com/programs/recYiWZw0fetRIE61
END:VEVENT
END:VCALENDAR