BEGIN:VCALENDAR
VERSION:2.0
PRODID:-//Athena//Youth Programs//EN
CALSCALE:GREGORIAN
METHOD:PUBLISH
X-WR-CALNAME:Riverton Youth Baseball - Tee Ball (Ages 3-4)
X-WR-TIMEZONE:America/Denver
BEGIN:VEVENT
UID:program-recYNX1xZ7mQjlaQq-season@athena.com
DTSTAMP:20260423T223206Z
DTSTART;VALUE=DATE:20260805
DTEND;VALUE=DATE:20260828
SUMMARY:Riverton Youth Baseball - Tee Ball (Ages 3-4)
DESCRIPTION:Offered by: Riverton City Recreation\nAges: 3–4\nRegister at: h
 ttps://www.rivertonutah.gov/recreation/programs/youth/baseball.php\nView o
 n Athena: https://athena.com/programs/recYNX1xZ7mQjlaQq
LOCATION:Riverton\, UT
URL:https://athena.com/programs/recYNX1xZ7mQjlaQq
END:VEVENT
END:VCALENDAR