BEGIN:VCALENDAR
VERSION:2.0
PRODID:-//Athena//Youth Programs//EN
CALSCALE:GREGORIAN
METHOD:PUBLISH
X-WR-CALNAME:Challenger Sports International Soccer Camp - Lehi
X-WR-TIMEZONE:America/Denver
BEGIN:VEVENT
UID:program-recYE43yiB1D6JliP-season@athena.com
DTSTAMP:20260423T222637Z
DTSTART;VALUE=DATE:20260609
DTEND;VALUE=DATE:20260614
SUMMARY:Challenger Sports International Soccer Camp - Lehi
DESCRIPTION:Offered by: Challenger Sports\nAges: 3–14\nRegister at: https:/
 /challengersports.com/soccer-camps/\nView on Athena: https://athena.com/pr
 ograms/recYE43yiB1D6JliP
LOCATION:Lehi\, UT
URL:https://athena.com/programs/recYE43yiB1D6JliP
END:VEVENT
END:VCALENDAR